BEGIN:VCALENDAR
VERSION:2.0
PRODID:-// - ECPv6.15.20//NONSGML v1.0//EN
CALSCALE:GREGORIAN
METHOD:PUBLISH
X-ORIGINAL-URL:https://debbiecassidy.com
X-WR-CALDESC:Events for 
REFRESH-INTERVAL;VALUE=DURATION:PT1H
X-Robots-Tag:noindex
X-PUBLISHED-TTL:PT1H
BEGIN:VTIMEZONE
TZID:America/Denver
BEGIN:DAYLIGHT
TZOFFSETFROM:-0700
TZOFFSETTO:-0600
TZNAME:MDT
DTSTART:20240310T090000
END:DAYLIGHT
BEGIN:STANDARD
TZOFFSETFROM:-0600
TZOFFSETTO:-0700
TZNAME:MST
DTSTART:20241103T080000
END:STANDARD
BEGIN:DAYLIGHT
TZOFFSETFROM:-0700
TZOFFSETTO:-0600
TZNAME:MDT
DTSTART:20250309T090000
END:DAYLIGHT
BEGIN:STANDARD
TZOFFSETFROM:-0600
TZOFFSETTO:-0700
TZNAME:MST
DTSTART:20251102T080000
END:STANDARD
BEGIN:DAYLIGHT
TZOFFSETFROM:-0700
TZOFFSETTO:-0600
TZNAME:MDT
DTSTART:20260308T090000
END:DAYLIGHT
BEGIN:STANDARD
TZOFFSETFROM:-0600
TZOFFSETTO:-0700
TZNAME:MST
DTSTART:20261101T080000
END:STANDARD
END:VTIMEZONE
BEGIN:VEVENT
DTSTART;TZID=America/Denver:20251119T163000
DTEND;TZID=America/Denver:20251119T173000
DTSTAMP:20260423T181655
CREATED:20251111T234810Z
LAST-MODIFIED:20251111T234810Z
UID:1566-1763569800-1763573400@debbiecassidy.com
SUMMARY:Sound Bath and Meditation
DESCRIPTION:Wednesday\, November 19th 2025\,  at 4:30 PM. Space is limited to 6. Please contact me to reserve your space and to acquire location. Join me for a short meditation followed by a sound bath with crystal singing bowls for a great relaxation session. You can connect with me to reserve your site or for more information through this website or text me at 970-819-1019. See you then!! By Donation only…
URL:https://debbiecassidy.com/event/sound-bath-and-meditation/
END:VEVENT
BEGIN:VEVENT
DTSTART;VALUE=DATE:20251027
DTEND;VALUE=DATE:20251101
DTSTAMP:20260423T181655
CREATED:20250609T211737Z
LAST-MODIFIED:20250609T211737Z
UID:1509-1761523200-1761955199@debbiecassidy.com
SUMMARY:Retreat: When the Soul Whispers
DESCRIPTION:Join us October 27 – 31\, 2025 at Joyful Journey Hot Springs Spa in the beautiful\, majestic Sangre de Cristo Mountains of Colorado and the expansive San Luis Valley. \nShhh.. Turn down the noise. Power off the distractions. Just listen. Do you hear it in the silence? \nThat’s your inner voice. \nWhen you step away from the noise of everyday life\, \nYOU \nmake space for the voices that matter — \nthe ones that tell you what you want and need and who you really are. \nFacilitated by Chopra Global Vedic Educators: \n\nDian Shirley\, C-IAYT\, Vedic Mentor & Professional Educator (M.S.)\nDebbie Cassidy\, RN\, MSN\, Professional Educator\, Guide\, Facilitator\n\nSign up by September 27th for Early Bird Rate of $639\, and there is also a discounted returning attendee rate! \nLearn More and Sign Up at the Event Site
URL:https://debbiecassidy.com/event/retreat-when-the-soul-whispers/
LOCATION:Joyful Journey Hot Springs Spa\, 28640 County Rd 58EE\, Moffat\, 81143\, United States
CATEGORIES:Wellness Retreat
END:VEVENT
BEGIN:VEVENT
DTSTART;TZID=America/Denver:20250624T170000
DTEND;TZID=America/Denver:20250624T183000
DTSTAMP:20260423T181655
CREATED:20250616T232954Z
LAST-MODIFIED:20250616T232954Z
UID:1533-1750784400-1750789800@debbiecassidy.com
SUMMARY:Sound Bath + Yoga Nidra
DESCRIPTION:Would you like to slip into total relaxation and healing through sound and vibration?? Join my partner Dian Shirley and I as we co-host a sound bath with crystal singing bowls followed by a guided Yoga Nidra. Tuesday June 24th\, 2025 at 5:00 PM. Space is limited to 6. Please contact me to reserve your space and to acquire location. You can connect me to reserve your site or for more information through this website or text me at 970-819-1019. See you then!!
URL:https://debbiecassidy.com/event/sound-bath-yoga-nidra/
END:VEVENT
BEGIN:VEVENT
DTSTART;TZID=America/Denver:20250611T080000
DTEND;TZID=America/Denver:20250611T170000
DTSTAMP:20260423T181655
CREATED:20250612T022416Z
LAST-MODIFIED:20250612T022416Z
UID:1528-1749628800-1749661200@debbiecassidy.com
SUMMARY:Sound  Bath with crystal singing bowls and Yoga Nidra Meditation
DESCRIPTION:Tuesday\, June 24th\, 2025 at 5:00 PM. Contact me at 970-819-1019 to reserve your spot and to get directions to event site. Drop into total relaxation and healing with crystal singing bowls followed by a yoga nidra meditation!
URL:https://debbiecassidy.com/event/sound-bath-with-crystal-singing-bowls-and-yoga-nidra-meditation/
END:VEVENT
END:VCALENDAR